BEGIN:VCALENDAR
VERSION:2.0
PRODID:icalendar-ruby
CALSCALE:GREGORIAN
METHOD:PUBLISH
BEGIN:VEVENT
DTSTAMP:20260424T135332Z
UID:144-5025172@unitycenter.org
DTSTART:20260429T013000Z
DTEND:20260429T033000Z
CLASS:PUBLIC
CREATED:20260423T140623
DESCRIPTION:If you play a stringed instrument such as a guitar\, ukulele\, 
 mandolin\, banjo\, or violin\, you are invited to join Jim Turner\, Thomas
  Orjala\, and friends for an evening jam session. Some light percussion su
 ch as shakers and tambourines would be welcome as well. In addition\, folk
 s who like to sing are encouraged to participate. Or if you just want to h
 ere some live music\, come on by. The musicians will take requests for you
 r favorite retro song selections. If you are planning to come\, please bri
 ng along any sheet music you wish to share. The fun starts at 6:30 PM.
LAST-MODIFIED:20260423T140623
LOCATION:4465 N 15th Street\, Coeur d'Alene ID
SUMMARY:Acoustic Jam
URL;VALUE=URI:https://www.unitycenter.org/events/acoustic-jam/2026-04-28
ATTACH;FILENAME=2025 - Acoustic Jam.jpg;FMTTYPE=image/jpeg:https://dq5pwpg1
 q8ru0.cloudfront.net/2025/02/20/05/17/52/d9d413d6-767e-438d-a4df-8a3c8a280
 c55/2025%20-%20Acoustic%20Jam.jpg
END:VEVENT
END:VCALENDAR
