BEGIN:VCALENDAR
VERSION:2.0
PRODID:icalendar-ruby
CALSCALE:GREGORIAN
METHOD:PUBLISH
BEGIN:VEVENT
DTSTAMP:20260424T135456Z
UID:244-5025166@unitycenter.org
DTSTART:20260426T170000Z
DTEND:20260426T182500Z
CLASS:PUBLIC
CREATED:20260423T134310
DESCRIPTION:This Sunday’s message is a continuation of the exploration of
  Sacred Relationship. The focus is on the nine timeless values that have g
 uided spiritual seekers across cultures and generations. These values act 
 like way-finders\, helping you return to the sacred relationships your hea
 rt and soul long for: relationships rooted in presence\, honesty\, compass
 ion\, and mutual belonging.\nSacred relationships begin with the courage t
 o truly know\, honor\, and love what lives within you\, your longings and 
 hopes\, your fears and vulnerabilities\, your dreams and desires. When you
  meet these inner truths with gentleness\, you create the conditions for g
 enuine connection with others.\nBut sacred relationships also ask you to r
 ecognize the inner stories that keep you small. Shame\, blame\, and scapeg
 oating can quietly distort the way you see yourself and the people you car
 e about. These patterns don’t make you flawed\; they make you human. And
  when you bring them into the light with awareness and compassion\, they l
 ose their power to separate you from the sacredness already present in you
 r relationships.\nJoin Reverend James Kress this Sunday for a message on s
 acred relationships—the living\, breathing web of connection that holds 
 you\, shapes you\, and calls you into deeper authenticity.\nWherever you f
 ind yourself on your spiritual journey—curious\, questioning\, grounded\
 , or seeking—you are warmly invited to participate in this exploration. 
 Come as you are\, bring your whole self\, and step into a space where conn
 ection\, reflection\, and renewal are possible.\nYou can join us in person
  or online.\nOur music ensemble features Gwen Gathercoal on piano and Paul
  Gathercoal on guitar.
LAST-MODIFIED:20260423T134310
LOCATION:4465 N. 15th St\, Coeur d'Alene\, ID
SUMMARY:April 26 Sunday Service
URL;VALUE=URI:https://www.unitycenter.org/events/april-26-sunday-service/20
 26-04-26
ATTACH;FILENAME="2026- Stewardship to Kinship, Part II.jpg";FMTTYPE=image/j
 peg:https://dq5pwpg1q8ru0.cloudfront.net/2026/04/23/20/42/56/e52a8023-cee1
 -4f54-87c0-fba60fdd634e/2026-%20Stewardship%20to%20Kinship,%20Part%20II.jp
 g
END:VEVENT
END:VCALENDAR
