BEGIN:VCALENDAR
VERSION:2.0
PRODID:icalendar-ruby
CALSCALE:GREGORIAN
METHOD:PUBLISH
BEGIN:VEVENT
DTSTAMP:20260422T223036Z
UID:106-5006782@unitycenter.org
DTSTART:20261014T170000Z
DTEND:20261014T190000Z
CLASS:PUBLIC
CREATED:20260422T130014
DESCRIPTION:This weekly discussion group ponders the Divine while taking a 
 deeper look at our relationship with God. Bring your beverage of choice\, 
 whatever fills your Divine Cup\, and join us for God-n-Coffee. 
LAST-MODIFIED:20260422T130014
LOCATION:4465 N. 15th St\, Coeur d'Alene\, ID
SUMMARY:God-N-Coffee
URL;VALUE=URI:https://www.unitycenter.org/events/god-n-coffee/2026-10-14
ATTACH;FILENAME=Coffee-n-God.jpg;FMTTYPE=image/jpeg:https://dq5pwpg1q8ru0.c
 loudfront.net/2023/08/10/14/41/08/3551904b-1ef4-4a47-88fb-9095a9e1ec06/Cof
 fee-n-God.jpg
END:VEVENT
END:VCALENDAR
